BEGIN:VCALENDAR
VERSION:2.0
PRODID:-//Joanne the Poet - ECPv6.15.20//NONSGML v1.0//EN
CALSCALE:GREGORIAN
METHOD:PUBLISH
X-ORIGINAL-URL:https://joanneclarkson.com
X-WR-CALDESC:Events for Joanne the Poet
REFRESH-INTERVAL;VALUE=DURATION:PT1H
X-Robots-Tag:noindex
X-PUBLISHED-TTL:PT1H
BEGIN:VTIMEZONE
TZID:America/Vancouver
BEGIN:DAYLIGHT
TZOFFSETFROM:-0800
TZOFFSETTO:-0700
TZNAME:PDT
DTSTART:20170312T100000
END:DAYLIGHT
BEGIN:STANDARD
TZOFFSETFROM:-0700
TZOFFSETTO:-0800
TZNAME:PST
DTSTART:20171105T090000
END:STANDARD
BEGIN:DAYLIGHT
TZOFFSETFROM:-0800
TZOFFSETTO:-0700
TZNAME:PDT
DTSTART:20180311T100000
END:DAYLIGHT
BEGIN:STANDARD
TZOFFSETFROM:-0700
TZOFFSETTO:-0800
TZNAME:PST
DTSTART:20181104T090000
END:STANDARD
BEGIN:DAYLIGHT
TZOFFSETFROM:-0800
TZOFFSETTO:-0700
TZNAME:PDT
DTSTART:20190310T100000
END:DAYLIGHT
BEGIN:STANDARD
TZOFFSETFROM:-0700
TZOFFSETTO:-0800
TZNAME:PST
DTSTART:20191103T090000
END:STANDARD
END:VTIMEZONE
BEGIN:VEVENT
DTSTART;TZID=America/Vancouver:20180421T180000
DTEND;TZID=America/Vancouver:20180421T193000
DTSTAMP:20260415T095125
CREATED:20180322T024938Z
LAST-MODIFIED:20180322T024938Z
UID:674-1524333600-1524339000@joanneclarkson.com
SUMMARY:"Inspiration" Reading for National Poetry Month
DESCRIPTION:“Inspiration” at Orca Books.\n\nPoets Celebrate April 2018 National Poetry Month \nPoets are inspired to write in a variety of ways. One of the most effective and powerful is by reading other accomplished poets. Local verse-makers will share work by their favorite writers coupled with the poems they created because of them on Saturday\, April 21\, 6-7:30 p.m. at Orca Books in downtown Olympia.  Poets participating include: Carolyn Gilman\, Patrick Dixon\, Lorrie Lambert Smith\, Joanne Clarkson\, Wesley Jones\, Thomas A. Thomas and Carol Sunde. \nCome to learn more about the work of wonderful poets and how one mind can trigger others to create image\, rhythm\, sound and sense.  The program is free and all ages are welcome.
URL:https://joanneclarkson.com/event/inspiration-reading-for-national-poetry-month
LOCATION:Orca Books\, 509 4th Ave. E.\, WA\, 98501\, United States
END:VEVENT
END:VCALENDAR